BEGIN:VCALENDAR
VERSION:2.0
PRODID:http://bistummainz.de
BEGIN:VEVENT
UID:bf775a40-fb79-11f0-bae7-0242ac11002b-1778050800000-de
DTSTAMP:20260127T121437Z
DTSTART:20260506T070000Z
DTEND:20260506T080000Z
SUMMARY;LANGUAGE=de:Wort-Gottes-Feier
END:VEVENT
END:VCALENDAR
