BEGIN:VCALENDAR
VERSION:2.0
PRODID:http://bistummainz.de
BEGIN:VEVENT
UID:bfbc5283-fb79-11f0-bae7-0242ac11002b-1778085000000-de
DTSTAMP:20260127T121437Z
DTSTART:20260506T163000Z
DTEND:20260506T173000Z
SUMMARY;LANGUAGE=de:Eucharistiefeier
END:VEVENT
END:VCALENDAR
