BEGIN:VCALENDAR
VERSION:2.0
PRODID:http://bistummainz.de
BEGIN:VEVENT
UID:c08d853b-fb79-11f0-bae7-0242ac11002b-1778083200000-de
DTSTAMP:20260127T121438Z
DTSTART:20260506T160000Z
DTEND:20260506T163000Z
SUMMARY;LANGUAGE=de:Rosenkranz
END:VEVENT
END:VCALENDAR
