BEGIN:VCALENDAR
VERSION:2.0
PRODID:http://bistummainz.de
BEGIN:VEVENT
UID:c0a73fd9-f6c2-11f0-bae7-0242ac11002b-1777532400000-de
DTSTAMP:20260121T121436Z
DTSTART:20260430T070000Z
DTEND:20260430T080000Z
SUMMARY;LANGUAGE=de:Eucharistiefeier
END:VEVENT
END:VCALENDAR
