BEGIN:VCALENDAR
VERSION:2.0
PRODID:http://bistummainz.de
BEGIN:VEVENT
UID:c0d8b01d-f6c2-11f0-bae7-0242ac11002b-1777564800000-de
DTSTAMP:20260121T121436Z
DTSTART:20260430T160000Z
DTEND:20260430T163000Z
SUMMARY;LANGUAGE=de:Rosenkranz
END:VEVENT
END:VCALENDAR
