BEGIN:VCALENDAR
VERSION:2.0
PRODID:http://bistummainz.de
BEGIN:VEVENT
UID:c833f1d4-fb78-11f0-bae7-0242ac11002b-1778086800000-de
DTSTAMP:20260127T120742Z
DTSTART:20260506T170000Z
DTEND:20260506T180000Z
SUMMARY;LANGUAGE=de:Maiandacht des Frauenkreises
END:VEVENT
END:VCALENDAR
