BEGIN:VCALENDAR
VERSION:2.0
PRODID:http://bistummainz.de
BEGIN:VEVENT
UID:c992a5ad-002f-11f1-bae7-0242ac11002b-1777788000000-de
DTSTAMP:20260202T120747Z
DTSTART:20260503T060000Z
DTEND:20260503T070000Z
SUMMARY;LANGUAGE=de:Eucharistiefeier
END:VEVENT
END:VCALENDAR
