BEGIN:VCALENDAR
VERSION:2.0
PRODID:http://bistummainz.de
BEGIN:VEVENT
UID:ca0af5cb-eee6-11f0-bae7-0242ac11002b-1776699000000-de
DTSTAMP:20260111T121224Z
DTSTART:20260420T153000Z
DTEND:20260420T160000Z
SUMMARY;LANGUAGE=de:Rosenkranzgebet
END:VEVENT
END:VCALENDAR
