BEGIN:VCALENDAR
VERSION:2.0
PRODID:http://bistummainz.de
BEGIN:VEVENT
UID:cae8d2ae-eee6-11f0-bae7-0242ac11002b-1776700800000-de
DTSTAMP:20260111T121226Z
DTSTART:20260420T160000Z
DTEND:20260420T170000Z
SUMMARY;LANGUAGE=de:Hl. Messe
DESCRIPTION;LANGUAGE=de:Wir beten für Maria u. Franz-Josef Römer; Anna u. Jakob Schäfer
END:VEVENT
END:VCALENDAR
