BEGIN:VCALENDAR
VERSION:2.0
PRODID:http://bistummainz.de
BEGIN:VEVENT
UID:cc476981-efb0-11f0-bae7-0242ac11002b-1776776400000-de
DTSTAMP:20260112T121826Z
DTSTART:20260421T130000Z
DTEND:20260421T140000Z
SUMMARY;LANGUAGE=de:Hl. Messe
END:VEVENT
END:VCALENDAR
