BEGIN:VCALENDAR
VERSION:2.0
PRODID:http://bistummainz.de
BEGIN:VEVENT
UID:cd716a9a-efb0-11f0-bae7-0242ac11002b-1776790800000-de
DTSTAMP:20260112T121828Z
DTSTART:20260421T170000Z
DTEND:20260421T180000Z
SUMMARY;LANGUAGE=de:Hl. Messe
DESCRIPTION;LANGUAGE=de:Wir beten für + der Fam. Kosub und Sohn Heinrich\, + der Fam. Golbick und Hawellek
END:VEVENT
END:VCALENDAR
