BEGIN:VCALENDAR
VERSION:2.0
PRODID:http://bistummainz.de
BEGIN:VEVENT
UID:d110b78f-fc42-11f0-bae7-0242ac11002b-1778137200000-de
DTSTAMP:20260128T121355Z
DTSTART:20260507T070000Z
DTEND:20260507T080000Z
SUMMARY;LANGUAGE=de:Eucharistiefeier
END:VEVENT
END:VCALENDAR
