BEGIN:VCALENDAR
VERSION:2.0
PRODID:http://bistummainz.de
BEGIN:VEVENT
UID:d4f20e11-f466-11f0-bae7-0242ac11002b-1777307400000-de
DTSTAMP:20260118T121134Z
DTSTART:20260427T163000Z
DTEND:20260427T173000Z
SUMMARY;LANGUAGE=de:Eucharistiefeier (Nagel), um 18 Uhr Rosenkranzgebet, anschließend eucharistische Anbetung
END:VEVENT
END:VCALENDAR
