BEGIN:VCALENDAR
VERSION:2.0
PRODID:http://bistummainz.de
BEGIN:VEVENT
UID:d9283a33-efb0-11f0-bae7-0242ac11002b-1776789000000-de
DTSTAMP:20260112T121848Z
DTSTART:20260421T163000Z
DTEND:20260421T171500Z
SUMMARY;LANGUAGE=de:Eucharistiefeier (Valentinuskapelle)
END:VEVENT
END:VCALENDAR
