BEGIN:VCALENDAR
VERSION:2.0
PRODID:http://bistummainz.de
BEGIN:VEVENT
UID:d950f7e6-efb0-11f0-bae7-0242ac11002b-1776789900000-de
DTSTAMP:20260112T121848Z
DTSTART:20260421T164500Z
DTEND:20260421T181500Z
SUMMARY;LANGUAGE=de:Kontemplatives Gebet (Camarahaus R3)
END:VEVENT
END:VCALENDAR
