BEGIN:VCALENDAR
VERSION:2.0
PRODID:http://bistummainz.de
BEGIN:VEVENT
UID:d9785609-efb0-11f0-bae7-0242ac11002b-1776778200000-de
DTSTAMP:20260112T121849Z
DTSTART:20260421T133000Z
DTEND:20260421T143000Z
SUMMARY;LANGUAGE=de:Ökumenischer Gottesdienst (Seniorenresidenz)
END:VEVENT
END:VCALENDAR
