BEGIN:VCALENDAR
VERSION:2.0
PRODID:http://bistummainz.de
BEGIN:VEVENT
UID:ddfbbe54-f078-11f0-bae7-0242ac11002b-1776841200000-de
DTSTAMP:20260113T121035Z
DTSTART:20260422T070000Z
DTEND:20260422T080000Z
SUMMARY;LANGUAGE=de:Gebet für den Frieden in der Welt
END:VEVENT
END:VCALENDAR
