BEGIN:VCALENDAR
VERSION:2.0
PRODID:http://bistummainz.de
BEGIN:VEVENT
UID:def74605-f209-11f0-bae7-0242ac11002b-1777044600000-de
DTSTAMP:20260115T120105Z
DTSTART:20260424T153000Z
DTEND:20260424T160000Z
SUMMARY;LANGUAGE=de:Rosenkranzgebet
END:VEVENT
END:VCALENDAR
