BEGIN:VCALENDAR
VERSION:2.0
PRODID:http://bistummainz.de
BEGIN:VEVENT
UID:df2f1dd1-f39c-11f0-bae7-0242ac11002b-1777183200000-de
DTSTAMP:20260117T120553Z
DTSTART:20260426T060000Z
DTEND:20260426T070000Z
SUMMARY;LANGUAGE=de:Eucharistiefeier in polnischer Sprache
END:VEVENT
END:VCALENDAR
