BEGIN:VCALENDAR
VERSION:2.0
PRODID:http://bistummainz.de
BEGIN:VEVENT
UID:dfafe69b-f39c-11f0-bae7-0242ac11002b-1777190400000-de
DTSTAMP:20260117T120554Z
DTSTART:20260426T080000Z
DTEND:20260426T090000Z
SUMMARY;LANGUAGE=de:Eucharistiefeier mit anschl. Kirchenkaffee
END:VEVENT
END:VCALENDAR
