BEGIN:VCALENDAR
VERSION:2.0
PRODID:http://bistummainz.de
BEGIN:VEVENT
UID:dfd3282e-04e7-11f1-bae7-0242ac11002b-1779123600000-de
DTSTAMP:20260208T121536Z
DTSTART:20260518T170000Z
DTEND:20260518T173000Z
SUMMARY;LANGUAGE=de:Medjugorje-Rosenkranz
END:VEVENT
END:VCALENDAR
