BEGIN:VCALENDAR
VERSION:2.0
PRODID:http://bistummainz.de
BEGIN:VEVENT
UID:e03e4615-04e7-11f1-bae7-0242ac11002b-1779112800000-de
DTSTAMP:20260208T121537Z
DTSTART:20260518T140000Z
DTEND:20260518T150000Z
SUMMARY;LANGUAGE=de:Wort-Gottes-Feier
END:VEVENT
END:VCALENDAR
