BEGIN:VCALENDAR
VERSION:2.0
PRODID:http://bistummainz.de
BEGIN:VEVENT
UID:e1fa5794-162f-11f1-bae7-0242ac11002b-1776951000000-de
DTSTAMP:20260302T120353Z
DTSTART:20260423T133000Z
DTEND:20260423T143000Z
SUMMARY;LANGUAGE=de:Probe zur Erstkommunion
END:VEVENT
END:VCALENDAR
