BEGIN:VCALENDAR
VERSION:2.0
PRODID:http://bistummainz.de
BEGIN:VEVENT
UID:e4175f08-f39c-11f0-bae7-0242ac11002b-1777186800000-de
DTSTAMP:20260117T120601Z
DTSTART:20260426T070000Z
DTEND:20260426T080000Z
SUMMARY;LANGUAGE=de:Eucharistiefeier - Patrozinium
END:VEVENT
END:VCALENDAR
