BEGIN:VCALENDAR
VERSION:2.0
PRODID:http://bistummainz.de
BEGIN:VEVENT
UID:e4f787b7-f209-11f0-bae7-0242ac11002b-1777042800000-de
DTSTAMP:20260115T120115Z
DTSTART:20260424T150000Z
DTEND:20260424T160000Z
SUMMARY;LANGUAGE=de:Eucharistische Anbetung
END:VEVENT
END:VCALENDAR
