BEGIN:VCALENDAR
VERSION:2.0
PRODID:http://bistummainz.de
BEGIN:VEVENT
UID:e52596d2-eee6-11f0-bae7-0242ac11002b-1776688200000-de
DTSTAMP:20260111T121310Z
DTSTART:20260420T123000Z
DTEND:20260420T133000Z
SUMMARY;LANGUAGE=de:Rosenkranz, anschließend Seniorenkaffee im Saal
END:VEVENT
END:VCALENDAR
