BEGIN:VCALENDAR
VERSION:2.0
PRODID:http://bistummainz.de
BEGIN:VEVENT
UID:e530ef7d-13d4-11f1-bae7-0242ac11002b-1776870000000-de
DTSTAMP:20260227T120732Z
DTSTART:20260422T150000Z
DTEND:20260422T160000Z
SUMMARY;LANGUAGE=de:Eucharistische Anbetung
END:VEVENT
END:VCALENDAR
