BEGIN:VCALENDAR
VERSION:2.0
PRODID:http://bistummainz.de
BEGIN:VEVENT
UID:e5ed53a8-eee6-11f0-bae7-0242ac11002b-1776700800000-de
DTSTAMP:20260111T121311Z
DTSTART:20260420T160000Z
DTEND:20260420T170000Z
SUMMARY;LANGUAGE=de:Rosenkranzgebet in der Bonifatius Kapelle
END:VEVENT
END:VCALENDAR
