BEGIN:VCALENDAR
VERSION:2.0
PRODID:http://bistummainz.de
BEGIN:VEVENT
UID:e6908eb4-f854-11f0-bae7-0242ac11002b-1777708800000-de
DTSTAMP:20260123T121317Z
DTSTART:20260502T080000Z
DTEND:20260502T083000Z
SUMMARY;LANGUAGE=de:Rosarium Virginis Mariae
END:VEVENT
END:VCALENDAR
