BEGIN:VCALENDAR
VERSION:2.0
PRODID:http://bistummainz.de
BEGIN:VEVENT
UID:e6c86797-f854-11f0-bae7-0242ac11002b-1777737600000-de
DTSTAMP:20260123T121318Z
DTSTART:20260502T160000Z
DTEND:20260502T163000Z
SUMMARY;LANGUAGE=de:Rosenkranz
END:VEVENT
END:VCALENDAR
