BEGIN:VCALENDAR
VERSION:2.0
PRODID:http://bistummainz.de
BEGIN:VEVENT
UID:e6d70ea2-faba-11f0-bae7-0242ac11002b-1776834000000-de
DTSTAMP:20260126T132829Z
DTSTART:20260422T050000Z
DTEND:20260422T063000Z
SUMMARY;LANGUAGE=de:Ökumenische Morgenmeditation
END:VEVENT
END:VCALENDAR
