BEGIN:VCALENDAR
VERSION:2.0
PRODID:http://bistummainz.de
BEGIN:VEVENT
UID:eb16b29e-0f1c-11f1-bae7-0242ac11002b-1776787200000-de
DTSTAMP:20260221T120030Z
DTSTART:20260421T160000Z
DTEND:20260421T170000Z
SUMMARY;LANGUAGE=de:Eucharistiefeier
END:VEVENT
END:VCALENDAR
