BEGIN:VCALENDAR
VERSION:2.0
PRODID:http://bistummainz.de
BEGIN:VEVENT
UID:ebe4ff28-0f1c-11f1-bae7-0242ac11002b-1776785400000-de
DTSTAMP:20260221T120031Z
DTSTART:20260421T153000Z
DTEND:20260421T160000Z
SUMMARY;LANGUAGE=de:Rosenkranzgebet
END:VEVENT
END:VCALENDAR
