BEGIN:VCALENDAR
VERSION:2.0
PRODID:http://bistummainz.de
BEGIN:VEVENT
UID:ec72641f-f39d-11f0-bae7-0242ac11002b-1777194900000-de
DTSTAMP:20260117T121325Z
DTSTART:20260426T091500Z
DTEND:20260426T101500Z
SUMMARY;LANGUAGE=de:Hochamt mit Taufe von Milo May
END:VEVENT
END:VCALENDAR
