BEGIN:VCALENDAR
VERSION:2.0
PRODID:http://bistummainz.de
BEGIN:VEVENT
UID:f1e50005-398b-11f1-b8c9-0242ac11002b-1776754800000-de
DTSTAMP:20260416T120104Z
DTSTART:20260421T070000Z
DTEND:20260421T074500Z
SUMMARY;LANGUAGE=de:Hl. Messe mit Aussetzung des Allerheiligsten und Gebetsstunden
END:VEVENT
END:VCALENDAR
