BEGIN:VCALENDAR
VERSION:2.0
PRODID:http://bistummainz.de
BEGIN:VEVENT
UID:f603c8d3-f466-11f0-bae7-0242ac11002b-1777305600000-de
DTSTAMP:20260118T121229Z
DTSTART:20260427T160000Z
DTEND:20260427T163000Z
SUMMARY;LANGUAGE=de:Rosenkranz
END:VEVENT
END:VCALENDAR
