BEGIN:VCALENDAR
VERSION:2.0
PRODID:http://bistummainz.de
BEGIN:VEVENT
UID:f6086c48-2947-11f1-a93c-0242ac11002b-1778688000000-de
DTSTAMP:20260326T191407Z
DTSTART:20260513T160000Z
DTEND:20260513T170000Z
SUMMARY;LANGUAGE=de:Eucharistiefeier am Vorabend zu Christi Himmelfahrt
END:VEVENT
END:VCALENDAR
