BEGIN:VCALENDAR
VERSION:2.0
PRODID:http://bistummainz.de
BEGIN:VEVENT
UID:f90da22a-f077-11f0-bae7-0242ac11002b-1776875400000-de
DTSTAMP:20260113T120411Z
DTSTART:20260422T163000Z
DTEND:20260422T173000Z
SUMMARY;LANGUAGE=de:Eucharistiefeier
END:VEVENT
END:VCALENDAR
