BEGIN:VCALENDAR
VERSION:2.0
PRODID:http://bistummainz.de
BEGIN:VEVENT
UID:fab62221-efb3-11f0-bae7-0242ac11002b-1776752100000-de
DTSTAMP:20260112T124113Z
DTSTART:20260421T061500Z
DTEND:20260421T071500Z
SUMMARY;LANGUAGE=de:Eucharistiefeier
END:VEVENT
END:VCALENDAR
