BEGIN:VCALENDAR
VERSION:2.0
PRODID:http://bistummainz.de
BEGIN:VEVENT
UID:fafd9501-f78c-11f0-bae7-0242ac11002b-1777647600000-de
DTSTAMP:20260122T122212Z
DTSTART:20260501T150000Z
DTEND:20260501T160000Z
SUMMARY;LANGUAGE=de:Feierliche Eröffnung der Maiandachten (Luckas)
END:VEVENT
END:VCALENDAR
