BEGIN:VCALENDAR
VERSION:2.0
PRODID:http://bistummainz.de
BEGIN:VEVENT
UID:fb709c69-faae-11f0-bae7-0242ac11002b-1776789000000-de
DTSTAMP:20260126T120309Z
DTSTART:20260421T163000Z
DTEND:20260421T173000Z
SUMMARY;LANGUAGE=de:Taizé- Zeit mit Gebet und Austausch
END:VEVENT
END:VCALENDAR
