BEGIN:VCALENDAR
VERSION:2.0
PRODID:http://bistummainz.de
BEGIN:VEVENT
UID:fb7f3e8a-efb3-11f0-bae7-0242ac11002b-1776787200000-de
DTSTAMP:20260112T124114Z
DTSTART:20260421T160000Z
DTEND:20260421T163000Z
SUMMARY;LANGUAGE=de:Eucharistiefeier in italienischer Sprache
END:VEVENT
END:VCALENDAR
