BEGIN:VCALENDAR
VERSION:2.0
PRODID:http://bistummainz.de
BEGIN:VEVENT
UID:fba6eace-efb3-11f0-bae7-0242ac11002b-1776774600000-de
DTSTAMP:20260112T124114Z
DTSTART:20260421T123000Z
DTEND:20260421T133000Z
SUMMARY;LANGUAGE=de:Eucharistiefeier
END:VEVENT
END:VCALENDAR
