BEGIN:VCALENDAR
VERSION:2.0
PRODID:http://bistummainz.de
BEGIN:VEVENT
UID:fcf36813-efb3-11f0-bae7-0242ac11002b-1776789000000-de
DTSTAMP:20260112T124117Z
DTSTART:20260421T163000Z
DTEND:20260421T173000Z
SUMMARY;LANGUAGE=de:Eucharistiefeier - Domkapitular Dr. Weinert mit Stay and Pray
END:VEVENT
END:VCALENDAR
