BEGIN:VCALENDAR
VERSION:2.0
PRODID:http://bistummainz.de
BEGIN:VEVENT
UID:fe30f13e-efb3-11f0-bae7-0242ac11002b-1776774600000-de
DTSTAMP:20260112T124119Z
DTSTART:20260421T123000Z
DTEND:20260421T130000Z
SUMMARY;LANGUAGE=de:ZEIT für Segen - Segens-ZEIT
END:VEVENT
END:VCALENDAR
