BEGIN:VCALENDAR
VERSION:2.0
PRODID:http://bistummainz.de
BEGIN:VEVENT
UID:02feb9fc-2f85-11f1-b8c9-0242ac11002b-1778088600000-de
DTSTAMP:20260403T174615Z
DTSTART:20260506T173000Z
DTEND:20260506T183000Z
SUMMARY;LANGUAGE=de:Schutzkonzept der Pfarrei: Offene Infoveranstaltung für Haupt- und Ehrenamtliche
DESCRIPTION;LANGUAGE=de:Alternativtermin für alle\, die bisher nicht an der Infoveranstaltung teilnehmen konnten.
END:VEVENT
END:VCALENDAR
