BEGIN:VCALENDAR
VERSION:2.0
PRODID:http://bistummainz.de
BEGIN:VEVENT
UID:08865aa5-399c-11f1-b8c9-0242ac11002b-1777482000000-de
DTSTAMP:20260416T135614Z
DTSTART:20260429T170000Z
DTEND:20260429T180000Z
SUMMARY;LANGUAGE=de:Gott diskriminiert nicht
DESCRIPTION;LANGUAGE=de:Seit der Würzburger Synode (Mitte der 1970er Jahre) ist die Weihe von Frauen ein Thema in der katholischen Kirche. Einige katholische Frauenverbände wie die kfd und der KDFB\, das Zentralkomitee der deutschen Katholischen und der Jugendverband BDKJ setzen sich dafür ein. „Frauen müssen endlich zu Diakoninnen geweiht werden. Frauen sollen ihre Berufungen endlich leben können – auch die zur Priesterin in der römisch-katholischen Kirche. Das ist das Plus. Ein weiteres Plus ist\, dass alle Menschen\, deren Berufungen von der offiziellen Kirche nicht anerkannt werden\, endlich ihre Berufungen leben können – unabhängig vom Geschlecht. Es wird Zeit\, dass das Gesicht der Kirche die Vielfalt der Menschheit widerspiegelt. Respekt vor dem Anderssein\, Achtung aller Charismen – so müsste Katholische Kirche sein!“ Mechthild Heil\, eh. kfd-Bundesvorsitzende
LOCATION;LANGUAGE=de:Maria-Hilf-Kapelle\, Ober-Olmer-Str.\, 55127 Mainz
IMAGE;VALUE=URI;DISPLAY=BADGE;FMTTYPE=image/jpeg:http://bistummainz.de/export/sites/bistum/region-rheinhessen/pfarrei/mainz-st-clara/.galleries/bilder/Plakat-29.4..jpg
END:VEVENT
END:VCALENDAR
