BEGIN:VCALENDAR
VERSION:2.0
PRODID:http://bistummainz.de
BEGIN:VEVENT
UID:102466bb-2f86-11f1-b8c9-0242ac11002b-1777195800000-de
DTSTAMP:20260403T175346Z
DTSTART:20260426T093000Z
SUMMARY;LANGUAGE=de:Buch & Kaffee (oder Tee) in der Bücherei St. Peter
DESCRIPTION;LANGUAGE=de:Alle Interessierten sind herzlich willkommen.
END:VEVENT
END:VCALENDAR
