BEGIN:VCALENDAR
VERSION:2.0
PRODID:http://bistummainz.de
BEGIN:VEVENT
UID:139ce014-2fff-11f1-b8c9-0242ac11002b-1777215600000-de
DTSTAMP:20260404T082001Z
DTSTART:20260426T150000Z
DTEND:20260426T163000Z
SUMMARY;LANGUAGE=de:Wundertüte - Ein meditativer Spaziergang
DESCRIPTION;LANGUAGE=de:Die Gruppe Kregor (Kreative Gottesdienstrunde) lädt ein - Thema heute: Glück\, eine Spurensuche
END:VEVENT
END:VCALENDAR
