BEGIN:VCALENDAR
VERSION:2.0
PRODID:http://bistummainz.de
BEGIN:VEVENT
UID:1d74ba15-e7d3-11f0-bae7-0242ac11002b-1778414400000-de
DTSTAMP:20260102T120356Z
DTSTART:20260510T120000Z
DTEND:20260510T140000Z
SUMMARY;LANGUAGE=de:Kerbekaffee des Kirchenchores Elsheim
LOCATION;LANGUAGE=de:Stadecken-Elsheim\, Haus Mauritius\, Ingelheimer Straße 2-4\, 55271 Stadecken-Elsheim\, Deutschland
END:VEVENT
END:VCALENDAR
